BEGIN:VCALENDAR
VERSION:2.0
CALSCALE:GREGORIAN
PRODID:UnionActive
BEGIN:VEVENT
UID:12612535@ibew1205.org
SUMMARY:Member Orientation Class
DESCRIPTION:Contact:  \nLink for more information: http://ibew1205.org/index.cfm?zone=/unionactive/view_calendar.cfm&calendarID=12612535&thisdate=02/03/2024&useCalSection=main
LOCATION:2510 NW 6th Street, Gainesville, FL 32609
URL:http://ibew1205.org/index.cfm?zone=/unionactive/view_calendar.cfm&calendarID=12612535&thisdate=02/03/2024&useCalSection=main
DTSTART:20240203T150000Z
DTEND:20240203T170000Z
DTSTAMP:20260419T114324
TRIGGER:-PT60M
END:VEVENT
END:VCALENDAR
