BEGIN:VCALENDAR
VERSION:2.0
CALSCALE:GREGORIAN
PRODID:UnionActive
BEGIN:VEVENT
UID:11360509@ibew1205.org
SUMMARY:RENEW Committee Meeting
DESCRIPTION:Contact:  \nLink for more information: http://ibew1205.org/index.cfm?zone=/unionactive/view_calendar.cfm&calendarID=11360509&thisdate=02/16/2024&useCalSection=main
LOCATION:Gainesville Hall
2510 NW 6th Street
Gainesville, FL 32609
URL:http://ibew1205.org/index.cfm?zone=/unionactive/view_calendar.cfm&calendarID=11360509&thisdate=02/16/2024&useCalSection=main
DTSTART:20240217T000000Z
DTEND:20240217T020000Z
DTSTAMP:20260419T114050
TRIGGER:-PT60M
END:VEVENT
END:VCALENDAR
